BEGIN:VCALENDAR
VERSION:2.0
PRODID:-//Sabre//Sabre VObject 4.5.8//EN
CALSCALE:GREGORIAN
BEGIN:VEVENT
UID:sabre-vobject-05f86309-22e2-4296-b2b2-fd1f8ce4b235
DTSTAMP:20260423T003147Z
SUMMARY:Festgottesdienst mit Erstkommunionfeier
DESCRIPTION:https://www2.bistum-augsburg.de/gottesdienste/festgottesdienst-
 mit-erstkommunionfeier_id1730595
DTSTART;TZID=Europe/Berlin:20260426T100000
DURATION:PT30M
LOCATION:St. Wolfgang
END:VEVENT
END:VCALENDAR
