BEGIN:VCALENDAR
VERSION:2.0
PRODID:-//Sabre//Sabre VObject 4.5.8//EN
CALSCALE:GREGORIAN
BEGIN:VEVENT
UID:sabre-vobject-2be1f3e0-ca4b-4177-ac95-a96457f39cbf
DTSTAMP:20260424T124435Z
SUMMARY:Heiliges Amt
DESCRIPTION:https://www2.bistum-augsburg.de/gottesdienste/heiliges-amt_id17
 30611
DTSTART;TZID=Europe/Berlin:20260426T094500
DURATION:PT30M
LOCATION:St. Leonhard
END:VEVENT
END:VCALENDAR
