BEGIN:VCALENDAR
VERSION:2.0
PRODID:-//Sabre//Sabre VObject 4.5.8//EN
CALSCALE:GREGORIAN
BEGIN:VEVENT
UID:sabre-vobject-92ab42e9-5d0a-4419-8762-20fbdaa2eaa5
DTSTAMP:20260424T225344Z
SUMMARY:Flurumgang anschließend hl. Messe um günstige Witterung\, eine gu
 te Ernte und um Segen für die Fluren
DESCRIPTION:https://www2.bistum-augsburg.de/gottesdienste/flurumgang-anschl
 iessend-hl-messe-um-guenstige-witterung-eine-gute-ernte-und-um-segen-fuer-
 die-fluren_id1730624
DTSTART;TZID=Europe/Berlin:20260506T183000
DURATION:PT30M
LOCATION:St. Nikolaus\, Kirchpl. 3\, 86570 Inchenhofen
END:VEVENT
END:VCALENDAR
