BEGIN:VCALENDAR
VERSION:2.0
PRODID:-//Sabre//Sabre VObject 4.5.8//EN
CALSCALE:GREGORIAN
BEGIN:VEVENT
UID:sabre-vobject-d39ff950-4faf-47f8-96df-a192b206082c
DTSTAMP:20260423T180329Z
SUMMARY:Segnung des Maibaums am Marktplatz
DESCRIPTION:https://www2.bistum-augsburg.de/gottesdienste/segnung-des-maiba
 ums-am-marktplatz_id1730639
DTSTART;TZID=Europe/Berlin:20260501T110000
DURATION:PT30M
LOCATION:St. Leonhard
END:VEVENT
END:VCALENDAR
