BEGIN:VCALENDAR
VERSION:2.0
PRODID:-//Sabre//Sabre VObject 4.5.8//EN
CALSCALE:GREGORIAN
BEGIN:VEVENT
UID:sabre-vobject-d4c9cf60-37d3-45ae-b31b-67ea6b855d72
DTSTAMP:20260423T035338Z
SUMMARY:Maiandacht mit Segnung von Erstkommunionandenken und Andachtsgegens
 tänden
DESCRIPTION:https://www2.bistum-augsburg.de/gottesdienste/maiandacht-mit-se
 gnung-von-erstkommunionandenken-und-andachtsgegenstaenden_id1730643
DTSTART;TZID=Europe/Berlin:20260501T183000
DURATION:PT30M
LOCATION:St. Leonhard
END:VEVENT
END:VCALENDAR
