BEGIN:VCALENDAR
VERSION:2.0
PRODID:-//Sabre//Sabre VObject 4.5.8//EN
CALSCALE:GREGORIAN
BEGIN:VEVENT
UID:sabre-vobject-861fbe2f-e7a4-45a3-be73-51db83b18e93
DTSTAMP:20260423T021318Z
SUMMARY:Sonntagvorabendmesse
DESCRIPTION:https://www2.bistum-augsburg.de/gottesdienste/sonntagvorabendme
 sse_id1730656
DTSTART;TZID=Europe/Berlin:20260425T190000
DURATION:PT30M
LOCATION:St. Nikolaus\, Kirchpl. 3\, 86570 Inchenhofen
END:VEVENT
END:VCALENDAR
