BEGIN:VCALENDAR
VERSION:2.0
PRODID:-//Sabre//Sabre VObject 4.5.8//EN
CALSCALE:GREGORIAN
BEGIN:VEVENT
UID:sabre-vobject-77483b7d-ea43-4cb9-acd4-6c80b7884f17
DTSTAMP:20260424T161550Z
SUMMARY:Heilige Messe\, anschl. Aussetzung des Allerheiligsten\; \nStille A
 nbetung bis 11:45 Uhr
DESCRIPTION:https://www2.bistum-augsburg.de/gottesdienste/heilige-messe-ans
 chl-aussetzung-des-allerheiligsten-stille-anbetung-bis-11-45-uhr_id1730658
DTSTART;TZID=Europe/Berlin:20260430T081500
DURATION:PT30M
LOCATION:St. Martin
END:VEVENT
END:VCALENDAR
