BEGIN:VCALENDAR
VERSION:2.0
PRODID:-//Sabre//Sabre VObject 4.5.8//EN
CALSCALE:GREGORIAN
BEGIN:VEVENT
UID:sabre-vobject-df2d81d5-b58a-4f41-8ba2-4007d3bfcc83
DTSTAMP:20260423T223622Z
SUMMARY:Heiliges Amt
DESCRIPTION:https://www2.bistum-augsburg.de/gottesdienste/heiliges-amt_id17
 30668
DTSTART;TZID=Europe/Berlin:20260503T083000
DURATION:PT30M
LOCATION:St. Michael\, Augsburger Str.\, 86568 Hollenbach
END:VEVENT
END:VCALENDAR
