BEGIN:VCALENDAR
VERSION:2.0
PRODID:-//Sabre//Sabre VObject 4.5.8//EN
CALSCALE:GREGORIAN
BEGIN:VEVENT
UID:sabre-vobject-bf5e0064-9203-47fc-9f0b-605cecf2b870
DTSTAMP:20260424T234035Z
SUMMARY:Sonntagsmesse mit feierlicher Erstkommunion (von Laimering und Ried
 en)
DESCRIPTION:https://www2.bistum-augsburg.de/gottesdienste/sonntagsmesse-mit
 -feierlicher-erstkommunion-von-laimering-und-rieden_id1730681
DTSTART;TZID=Europe/Berlin:20260426T094500
DURATION:PT30M
LOCATION:St. Georg\, Riedener Str. 10\, 86453 Laimering
END:VEVENT
END:VCALENDAR
