BEGIN:VCALENDAR
VERSION:2.0
PRODID:-//Sabre//Sabre VObject 4.5.8//EN
CALSCALE:GREGORIAN
BEGIN:VEVENT
UID:sabre-vobject-b3474d3f-2d87-4e18-965e-40dbc1f57468
DTSTAMP:20260425T210012Z
SUMMARY:Dankandacht der Erstkommunionkinder von Laimering/Rieden/Wessiszell
DESCRIPTION:https://www2.bistum-augsburg.de/gottesdienste/dankandacht-der-e
 rstkommunionkinder-von-laimering-rieden-wessiszell_id1730682
DTSTART;TZID=Europe/Berlin:20260426T170000
DURATION:PT30M
LOCATION:St. Georg\, Riedener Str. 10\, 86453 Laimering
END:VEVENT
END:VCALENDAR
