BEGIN:VCALENDAR
VERSION:2.0
PRODID:-//Sabre//Sabre VObject 4.5.8//EN
CALSCALE:GREGORIAN
BEGIN:VEVENT
UID:sabre-vobject-9141e340-20e8-4fe9-8530-63b08f8d35af
DTSTAMP:20260425T143156Z
SUMMARY:Pfarrgottesdienst als Wort-Gottes-Feier
DESCRIPTION:https://www2.bistum-augsburg.de/gottesdienste/pfarrgottesdienst
 -als-wort-gottes-feier_id1730699
DTSTART;TZID=Europe/Berlin:20260426T094500
DURATION:PT30M
LOCATION:St. Martin
END:VEVENT
END:VCALENDAR
