BEGIN:VCALENDAR
VERSION:2.0
PRODID:-//Sabre//Sabre VObject 4.5.8//EN
CALSCALE:GREGORIAN
BEGIN:VEVENT
UID:sabre-vobject-4a3a5d3f-9b85-4c5b-8ac5-4c715d678779
DTSTAMP:20260425T114315Z
SUMMARY:Festgottesdienst
DESCRIPTION:https://www2.bistum-augsburg.de/gottesdienste/festgottesdienst_
 id1730701
DTSTART;TZID=Europe/Berlin:20260501T094500
DURATION:PT30M
LOCATION:St. Martin
END:VEVENT
END:VCALENDAR
