BEGIN:VCALENDAR
VERSION:2.0
PRODID:-//Sabre//Sabre VObject 4.5.8//EN
CALSCALE:GREGORIAN
BEGIN:VEVENT
UID:sabre-vobject-c38ed0bc-104a-4c96-b1be-496fb1f487d4
DTSTAMP:20260425T122822Z
SUMMARY:Bruderschafts-Rosenkranz
DESCRIPTION:https://www2.bistum-augsburg.de/gottesdienste/bruderschafts-ros
 enkranz_id1730704
DTSTART;TZID=Europe/Berlin:20260503T131500
DURATION:PT30M
LOCATION:St. Martin
END:VEVENT
END:VCALENDAR
