BEGIN:VCALENDAR
VERSION:2.0
PRODID:-//Sabre//Sabre VObject 4.5.8//EN
CALSCALE:GREGORIAN
BEGIN:VEVENT
UID:sabre-vobject-e36ffdae-05f7-492f-ae67-cd91c59e445f
DTSTAMP:20260426T033755Z
SUMMARY:Familien-Maiandacht
DESCRIPTION:https://www2.bistum-augsburg.de/gottesdienste/familien-maiandac
 ht_id1730705
DTSTART;TZID=Europe/Berlin:20260503T180000
DURATION:PT30M
LOCATION:St. Martin
END:VEVENT
END:VCALENDAR
