BEGIN:VCALENDAR
VERSION:2.0
PRODID:-//Sabre//Sabre VObject 4.5.8//EN
CALSCALE:GREGORIAN
BEGIN:VEVENT
UID:sabre-vobject-8dfaafcf-5521-40bf-8541-85531df1f726
DTSTAMP:20260423T190225Z
SUMMARY:"Offenes Ohr" - Gespräch mit Beichtmöglichkeit
DESCRIPTION:https://www2.bistum-augsburg.de/gottesdienste/offenes-ohr-gespr
 aech-mit-beichtmoeglichkeit_id1730756
DTSTART;TZID=Europe/Berlin:20260425T100000
DURATION:PT30M
LOCATION:St. Verena
END:VEVENT
END:VCALENDAR
