BEGIN:VCALENDAR
VERSION:2.0
PRODID:-//Sabre//Sabre VObject 4.5.8//EN
CALSCALE:GREGORIAN
BEGIN:VEVENT
UID:sabre-vobject-c8a823f9-22be-4739-b406-29e7f35fdcb3
DTSTAMP:20260425T161545Z
SUMMARY:Maiandacht musik. gest. "Saitnblasn"
DESCRIPTION:https://www2.bistum-augsburg.de/gottesdienste/maiandacht-musik-
 gest-saitnblasn_id1730774
DTSTART;TZID=Europe/Berlin:20260522T190000
DURATION:PT30M
LOCATION:Kuratie Maria Himmelfahrt\, Nantesbuch 1\, 82377 Nantesbuch
END:VEVENT
END:VCALENDAR
