BEGIN:VCALENDAR
VERSION:2.0
PRODID:-//Sabre//Sabre VObject 4.5.8//EN
CALSCALE:GREGORIAN
BEGIN:VEVENT
UID:sabre-vobject-caf0a458-d974-4cde-a1a9-6751c6440d2b
DTSTAMP:20260424T185525Z
SUMMARY:Rosenkranzgebet
DESCRIPTION:https://www2.bistum-augsburg.de/gottesdienste/rosenkranzgebet_i
 d1730780
DTSTART;TZID=Europe/Berlin:20260505T190000
DURATION:PT30M
LOCATION:St. Verena
END:VEVENT
END:VCALENDAR
