BEGIN:VCALENDAR
VERSION:2.0
PRODID:-//Sabre//Sabre VObject 4.5.8//EN
CALSCALE:GREGORIAN
BEGIN:VEVENT
UID:sabre-vobject-9784c5c7-bbe3-46d8-a335-d6042842fdad
DTSTAMP:20260424T061102Z
SUMMARY:Hl. Messe mit Maiandacht
DESCRIPTION:https://www2.bistum-augsburg.de/gottesdienste/hl-messe-mit-maia
 ndacht_id1730781
DTSTART;TZID=Europe/Berlin:20260505T191500
DURATION:PT30M
LOCATION:St. Verena
END:VEVENT
END:VCALENDAR
