BEGIN:VCALENDAR
VERSION:2.0
PRODID:-//Sabre//Sabre VObject 4.5.8//EN
CALSCALE:GREGORIAN
BEGIN:VEVENT
UID:sabre-vobject-829af2e8-15ef-43a8-a527-6eccc775075e
DTSTAMP:20260425T184017Z
SUMMARY:Bruderschaftsgottesdienst
DESCRIPTION:https://www2.bistum-augsburg.de/gottesdienste/bruderschaftsgott
 esdienst_id1730826
DTSTART;TZID=Europe/Berlin:20260514T080000
DURATION:PT30M
LOCATION:St. Pankratius
END:VEVENT
END:VCALENDAR
