BEGIN:VCALENDAR
VERSION:2.0
PRODID:-//Sabre//Sabre VObject 4.5.8//EN
CALSCALE:GREGORIAN
BEGIN:VEVENT
UID:sabre-vobject-099e67a1-044b-48a4-a07d-c40fd9594780
DTSTAMP:20260424T162933Z
SUMMARY:Bittgang nach Wollmetshofen dort um 19.00 Uhr Heilige Messe
DESCRIPTION:https://www2.bistum-augsburg.de/gottesdienste/bittgang-nach-wol
 lmetshofen-dort-um-19-00-uhr-heilige-messe_id1730860
DTSTART;TZID=Europe/Berlin:20260511T180000
DURATION:PT30M
LOCATION:St. Michael
END:VEVENT
END:VCALENDAR
