BEGIN:VCALENDAR
VERSION:2.0
PRODID:-//Sabre//Sabre VObject 4.5.8//EN
CALSCALE:GREGORIAN
BEGIN:VEVENT
UID:sabre-vobject-da0527b7-edd9-48d5-94b9-46baf5cc376b
DTSTAMP:20260424T213812Z
SUMMARY:Bittgang nach Willmatshofen 18.45 Statio am Kreuz - Heilige Messe
DESCRIPTION:https://www2.bistum-augsburg.de/gottesdienste/bittgang-nach-wil
 lmatshofen-18-45-statio-am-kreuz-heilige-messe_id1730861
DTSTART;TZID=Europe/Berlin:20260512T181500
DURATION:PT30M
LOCATION:St. Michael
END:VEVENT
END:VCALENDAR
