BEGIN:VCALENDAR
VERSION:2.0
PRODID:-//Sabre//Sabre VObject 4.5.8//EN
CALSCALE:GREGORIAN
BEGIN:VEVENT
UID:sabre-vobject-d7574c95-f4f0-4a15-9cd6-94a2ab15ebc2
DTSTAMP:20260424T070602Z
SUMMARY:Gebet für den Frieden
DESCRIPTION:https://www2.bistum-augsburg.de/gottesdienste/gebet-fuer-den-fr
 ieden_id1730874
DTSTART;TZID=Europe/Berlin:20260530T100000
DURATION:PT30M
LOCATION:St. Michael
END:VEVENT
END:VCALENDAR
