BEGIN:VCALENDAR
VERSION:2.0
PRODID:-//Sabre//Sabre VObject 4.5.8//EN
CALSCALE:GREGORIAN
BEGIN:VEVENT
UID:sabre-vobject-f94e37f7-48b1-4415-ba68-5f669515eeed
DTSTAMP:20260425T021351Z
SUMMARY:Pfarrgottesdienst
DESCRIPTION:https://www2.bistum-augsburg.de/gottesdienste/pfarrgottesdienst
 _id1730887
DTSTART;TZID=Europe/Berlin:20260510T080000
DURATION:PT30M
LOCATION:St. Pankratius
END:VEVENT
END:VCALENDAR
