BEGIN:VCALENDAR
VERSION:2.0
PRODID:-//Sabre//Sabre VObject 4.5.8//EN
CALSCALE:GREGORIAN
BEGIN:VEVENT
UID:sabre-vobject-5732f0ed-bc2e-4b53-94a4-1919d38d7875
DTSTAMP:20260424T090429Z
SUMMARY:Festgottesdienst   (Renovabis Kolekte für Mittel- und Osteuropa)
DESCRIPTION:https://www2.bistum-augsburg.de/gottesdienste/festgottesdienst-
 renovabis-kolekte-fuer-mittel-und-osteuropa_id1730901
DTSTART;TZID=Europe/Berlin:20260524T084500
DURATION:PT30M
LOCATION:St. Jakobus maj.
END:VEVENT
END:VCALENDAR
