BEGIN:VCALENDAR
VERSION:2.0
PRODID:-//Sabre//Sabre VObject 4.5.8//EN
CALSCALE:GREGORIAN
BEGIN:VEVENT
UID:sabre-vobject-8e6414bf-e3d6-4fd5-8857-107738246251
DTSTAMP:20260423T124948Z
SUMMARY:Pilgermesse in den Anliegen der Pilger\;
DESCRIPTION:https://www2.bistum-augsburg.de/gottesdienste/pilgermesse-in-de
 n-anliegen-der-pilger_id1730903
DTSTART;TZID=Europe/Berlin:20260430T101500
DURATION:PT30M
LOCATION:Wallfahrtsdirektion Mariä Schmerzen
END:VEVENT
END:VCALENDAR
