BEGIN:VCALENDAR
VERSION:2.0
PRODID:-//Sabre//Sabre VObject 4.5.8//EN
CALSCALE:GREGORIAN
BEGIN:VEVENT
UID:sabre-vobject-dc76162b-90ea-480c-9591-2fa38284b793
DTSTAMP:20260425T200607Z
SUMMARY:Rosenkranz
DESCRIPTION:https://www2.bistum-augsburg.de/gottesdienste/rosenkranz_id1730
 924
DTSTART;TZID=Europe/Berlin:20260425T183000
DURATION:PT30M
LOCATION:St. Blasius
END:VEVENT
END:VCALENDAR
