BEGIN:VCALENDAR
VERSION:2.0
PRODID:-//Sabre//Sabre VObject 4.5.8//EN
CALSCALE:GREGORIAN
BEGIN:VEVENT
UID:sabre-vobject-57ca5a2b-c959-48d7-ab35-2c839d3701cc
DTSTAMP:20260424T161828Z
SUMMARY:Taufe: Ben Knöpfle
DESCRIPTION:https://www2.bistum-augsburg.de/gottesdienste/taufe-ben-knoepfl
 e_id1730932
DTSTART;TZID=Europe/Berlin:20260523T140000
DURATION:PT30M
LOCATION:St. Nikolaus
END:VEVENT
END:VCALENDAR
