BEGIN:VCALENDAR
VERSION:2.0
PRODID:-//Sabre//Sabre VObject 4.5.8//EN
CALSCALE:GREGORIAN
BEGIN:VEVENT
UID:sabre-vobject-18594adb-f8a7-4d32-bc17-2dcc526913f2
DTSTAMP:20260424T203149Z
SUMMARY:Hl. Messe als Dankgottesdienst der Erstkommunionkinder
DESCRIPTION:https://www2.bistum-augsburg.de/gottesdienste/hl-messe-als-dank
 gottesdienst-der-erstkommunionkinder_id1730937
DTSTART;TZID=Europe/Berlin:20260426T090000
DURATION:PT30M
LOCATION:St. Blasius
END:VEVENT
END:VCALENDAR
