BEGIN:VCALENDAR
VERSION:2.0
PRODID:-//Sabre//Sabre VObject 4.5.8//EN
CALSCALE:GREGORIAN
BEGIN:VEVENT
UID:sabre-vobject-0402faa1-a17f-4128-abb0-5fa079782381
DTSTAMP:20260425T032021Z
SUMMARY:Taufe: Mia Sophie Scherer
DESCRIPTION:https://www2.bistum-augsburg.de/gottesdienste/taufe-mia-sophie-
 scherer_id1730966
DTSTART;TZID=Europe/Berlin:20260509T140000
DURATION:PT30M
LOCATION:St. Pankratius
END:VEVENT
END:VCALENDAR
