BEGIN:VCALENDAR
VERSION:2.0
PRODID:-//Sabre//Sabre VObject 4.5.8//EN
CALSCALE:GREGORIAN
BEGIN:VEVENT
UID:sabre-vobject-b7b5c87b-c9ea-4e54-90a1-e5a5e308ad8a
DTSTAMP:20260424T083851Z
SUMMARY:Statio am Kreuz - 19.00 Uhr Bittgottesdienst bei Ankunft der Fischa
 cher Bittgänger
DESCRIPTION:https://www2.bistum-augsburg.de/gottesdienste/statio-am-kreuz-1
 9-00-uhr-bittgottesdienst-bei-ankunft-der-fischacher-bittgaenger_id1730977
DTSTART;TZID=Europe/Berlin:20260512T184500
DURATION:PT30M
LOCATION:St. Vitus\, Wilhelm-Wörle-Straße 8\, 86850 Fischach\, 86850 Will
 matshofen
END:VEVENT
END:VCALENDAR
