BEGIN:VCALENDAR
VERSION:2.0
PRODID:-//Sabre//Sabre VObject 4.5.8//EN
CALSCALE:GREGORIAN
BEGIN:VEVENT
UID:sabre-vobject-7350718b-2bfa-4bc0-86ed-f06499cdfd1a
DTSTAMP:20260424T122221Z
SUMMARY:Kapelle Tronetshofen: Gebet zur Sterbestunde Jesu und Barmherzigkei
 tsrosenkranz
DESCRIPTION:https://www2.bistum-augsburg.de/gottesdienste/kapelle-tronetsho
 fen-gebet-zur-sterbestunde-jesu-und-barmherzigkeitsrosenkranz_id1730978
DTSTART;TZID=Europe/Berlin:20260515T150000
DURATION:PT30M
LOCATION:St. Vitus\, Wilhelm-Wörle-Straße 8\, 86850 Fischach\, 86850 Will
 matshofen
END:VEVENT
END:VCALENDAR
