BEGIN:VCALENDAR
VERSION:2.0
PRODID:-//Sabre//Sabre VObject 4.5.8//EN
CALSCALE:GREGORIAN
BEGIN:VEVENT
UID:sabre-vobject-f91c7e8f-3b08-4397-bdf1-f68c8af9506d
DTSTAMP:20260424T140101Z
SUMMARY:Taufe: Luca Jedelhauser
DESCRIPTION:https://www2.bistum-augsburg.de/gottesdienste/taufe-luca-jedelh
 auser_id1730988
DTSTART;TZID=Europe/Berlin:20260523T110000
DURATION:PT30M
LOCATION:St. Vitus\, Wilhelm-Wörle-Straße 8\, 86850 Fischach\, 86850 Will
 matshofen
END:VEVENT
END:VCALENDAR
