BEGIN:VCALENDAR
VERSION:2.0
PRODID:-//Sabre//Sabre VObject 4.5.8//EN
CALSCALE:GREGORIAN
BEGIN:VEVENT
UID:sabre-vobject-1906cda4-a90d-4a2e-89bf-b8ba04ecc182
DTSTAMP:20260424T122219Z
SUMMARY:Rosenkranz
DESCRIPTION:https://www2.bistum-augsburg.de/gottesdienste/rosenkranz_id1730
 991
DTSTART;TZID=Europe/Berlin:20260526T183000
DURATION:PT30M
LOCATION:St. Vitus\, Wilhelm-Wörle-Straße 8\, 86850 Fischach\, 86850 Will
 matshofen
END:VEVENT
END:VCALENDAR
