BEGIN:VCALENDAR
VERSION:2.0
PRODID:-//Sabre//Sabre VObject 4.5.8//EN
CALSCALE:GREGORIAN
BEGIN:VEVENT
UID:sabre-vobject-3191f015-485c-47b7-924b-73c9a7b2c353
DTSTAMP:20260424T185726Z
SUMMARY:Maiandacht mit Robert Ischwang und Werner Dirr\, Kanidat f. d. Stä
 ndigen Diakonat
DESCRIPTION:https://www2.bistum-augsburg.de/gottesdienste/maiandacht-mit-ro
 bert-ischwang-und-werner-dirr-kanidat-f-d-staendigen-diakonat_id1731012
DTSTART;TZID=Europe/Berlin:20260531T183000
DURATION:PT30M
LOCATION:St. Martin
END:VEVENT
END:VCALENDAR
