BEGIN:VCALENDAR
VERSION:2.0
PRODID:-//Sabre//Sabre VObject 4.5.8//EN
CALSCALE:GREGORIAN
BEGIN:VEVENT
UID:sabre-vobject-25853adc-441d-4c71-8c22-18396aa75136
DTSTAMP:20260425T202819Z
SUMMARY:Heilige Messe zum Hochfest Maria Schutzfrau von Bayern
DESCRIPTION:https://www2.bistum-augsburg.de/gottesdienste/heilige-messe-zum
 -hochfest-maria-schutzfrau-von-bayern_id1731020
DTSTART;TZID=Europe/Berlin:20260501T100000
DURATION:PT30M
LOCATION:St. Peter und Paul
END:VEVENT
END:VCALENDAR
