BEGIN:VCALENDAR
VERSION:2.0
PRODID:-//Sabre//Sabre VObject 4.5.8//EN
CALSCALE:GREGORIAN
BEGIN:VEVENT
UID:sabre-vobject-7ff11895-c0e3-4125-8fe8-48b3c06c7966
DTSTAMP:20260424T231221Z
SUMMARY:Rosenkranz um Heilung für die Kranken
DESCRIPTION:https://www2.bistum-augsburg.de/gottesdienste/rosenkranz-um-hei
 lung-fuer-die-kranken_id1731032
DTSTART;TZID=Europe/Berlin:20260426T180000
DURATION:PT30M
LOCATION:St. Anton
END:VEVENT
END:VCALENDAR
