BEGIN:VCALENDAR
VERSION:2.0
PRODID:-//Sabre//Sabre VObject 4.5.8//EN
CALSCALE:GREGORIAN
BEGIN:VEVENT
UID:sabre-vobject-b463f424-e9eb-46ed-b7d1-acd5fd1ff1c2
DTSTAMP:20260424T202902Z
SUMMARY:Beichtgelegenheit bis 9:00 Uhr
DESCRIPTION:https://www2.bistum-augsburg.de/gottesdienste/beichtgelegenheit
 -bis-9-00-uhr_id1731052
DTSTART;TZID=Europe/Berlin:20260429T081500
DURATION:PT30M
LOCATION:St. Anton
END:VEVENT
END:VCALENDAR
