BEGIN:VCALENDAR
VERSION:2.0
PRODID:-//Sabre//Sabre VObject 4.5.8//EN
CALSCALE:GREGORIAN
BEGIN:VEVENT
UID:sabre-vobject-a3d99cde-20c3-435c-9d74-85c42964e24d
DTSTAMP:20260425T192323Z
SUMMARY:Rosenkranz in den Anliegen der Mutter Gottes
DESCRIPTION:https://www2.bistum-augsburg.de/gottesdienste/rosenkranz-in-den
 -anliegen-der-mutter-gottes_id1731066
DTSTART;TZID=Europe/Berlin:20260425T180000
DURATION:PT30M
LOCATION:St. Anton
END:VEVENT
END:VCALENDAR
