BEGIN:VCALENDAR
VERSION:2.0
PRODID:-//Sabre//Sabre VObject 4.5.8//EN
CALSCALE:GREGORIAN
BEGIN:VEVENT
UID:sabre-vobject-bcf93637-d2a5-4dff-962a-f2e339e3d0e9
DTSTAMP:20260424T204147Z
SUMMARY:Hl. Messe in kroatischer Sprache
DESCRIPTION:https://www2.bistum-augsburg.de/gottesdienste/hl-messe-in-kroat
 ischer-sprache_id1731069
DTSTART;TZID=Europe/Berlin:20260426T150000
DURATION:PT30M
LOCATION:St. Anton
END:VEVENT
END:VCALENDAR
