BEGIN:VCALENDAR
VERSION:2.0
PRODID:-//Sabre//Sabre VObject 4.5.8//EN
CALSCALE:GREGORIAN
BEGIN:VEVENT
UID:sabre-vobject-c611aa04-859b-4e6f-ab73-ef8cc1661c88
DTSTAMP:20260425T190437Z
SUMMARY:Alpha-Plus Treffen Café Carlo
DESCRIPTION:https://www2.bistum-augsburg.de/gottesdienste/alpha-plus-treffe
 n-cafe-carlo_id1731078
DTSTART;TZID=Europe/Berlin:20260429T191500
DURATION:PT30M
LOCATION:St. Anton
END:VEVENT
END:VCALENDAR
