BEGIN:VCALENDAR
VERSION:2.0
PRODID:-//Sabre//Sabre VObject 4.5.8//EN
CALSCALE:GREGORIAN
BEGIN:VEVENT
UID:sabre-vobject-7e110262-9daf-4873-ad02-e86dfc00a206
DTSTAMP:20260424T163950Z
SUMMARY:Heilige Messe in der Klinikkapelle
DESCRIPTION:https://www2.bistum-augsburg.de/gottesdienste/heilige-messe-in-
 der-klinikkapelle_id1731080
DTSTART;TZID=Europe/Berlin:20260503T090000
DURATION:PT30M
LOCATION:St. Martin
END:VEVENT
END:VCALENDAR
