BEGIN:VCALENDAR
VERSION:2.0
PRODID:-//Sabre//Sabre VObject 4.5.8//EN
CALSCALE:GREGORIAN
BEGIN:VEVENT
UID:sabre-vobject-4b7685f0-46f8-4658-a1e4-da657c14dd0d
DTSTAMP:20260424T060933Z
SUMMARY:Festgottesdienst im Festzelt
DESCRIPTION:https://www2.bistum-augsburg.de/gottesdienste/festgottesdienst-
 im-festzelt_id1731084
DTSTART;TZID=Europe/Berlin:20260503T093000
DURATION:PT30M
LOCATION:St. Ulrich
END:VEVENT
END:VCALENDAR
