BEGIN:VCALENDAR
VERSION:2.0
PRODID:-//Sabre//Sabre VObject 4.5.8//EN
CALSCALE:GREGORIAN
BEGIN:VEVENT
UID:sabre-vobject-9de81e93-5ce5-4c32-8564-eecdd5cce4f3
DTSTAMP:20260425T231629Z
SUMMARY:Festgottesdienst\nanschl. Flurumgang durch den Bernrieder Park
DESCRIPTION:https://www2.bistum-augsburg.de/gottesdienste/festgottesdienst-
 anschl-flurumgang-durch-den-bernrieder-park_id1731091
DTSTART;TZID=Europe/Berlin:20260514T084500
DURATION:PT30M
LOCATION:St. Martin
END:VEVENT
END:VCALENDAR
