BEGIN:VCALENDAR
VERSION:2.0
PRODID:-//Sabre//Sabre VObject 4.5.8//EN
CALSCALE:GREGORIAN
BEGIN:VEVENT
UID:sabre-vobject-22a7e02c-a93a-41ff-9d30-ddd8464e13c6
DTSTAMP:20260425T150908Z
SUMMARY:Pfarrgottesdienst
DESCRIPTION:https://www2.bistum-augsburg.de/gottesdienste/pfarrgottesdienst
 _id1731103
DTSTART;TZID=Europe/Berlin:20260517T084500
DURATION:PT30M
LOCATION:St. Martin
END:VEVENT
END:VCALENDAR
