BEGIN:VCALENDAR
VERSION:2.0
PRODID:-//Sabre//Sabre VObject 4.5.8//EN
CALSCALE:GREGORIAN
BEGIN:VEVENT
UID:sabre-vobject-6bc147e1-5540-432e-86d5-9305b05865cc
DTSTAMP:20260423T143459Z
SUMMARY:Adoratio mit Querflöte
DESCRIPTION:https://www2.bistum-augsburg.de/gottesdienste/adoratio-mit-quer
 floete_id1731134
DTSTART;TZID=Europe/Berlin:20260501T190000
DURATION:PT30M
LOCATION:St. Anton
END:VEVENT
END:VCALENDAR
