BEGIN:VCALENDAR
VERSION:2.0
PRODID:-//Sabre//Sabre VObject 4.5.8//EN
CALSCALE:GREGORIAN
BEGIN:VEVENT
UID:sabre-vobject-14561ea8-cf31-433a-9914-b5dd08065c38
DTSTAMP:20260425T223421Z
SUMMARY:Heilige Messe in der Klinikkapelle
DESCRIPTION:https://www2.bistum-augsburg.de/gottesdienste/heilige-messe-in-
 der-klinikkapelle_id1731172
DTSTART;TZID=Europe/Berlin:20260524T110000
DURATION:PT30M
LOCATION:St. Martin
END:VEVENT
END:VCALENDAR
