BEGIN:VCALENDAR
VERSION:2.0
PRODID:-//Sabre//Sabre VObject 4.5.8//EN
CALSCALE:GREGORIAN
BEGIN:VEVENT
UID:sabre-vobject-d53697e3-e6f6-4dbd-b870-da4ac5a2a5e0
DTSTAMP:20260424T112809Z
SUMMARY:Heilige Messe in der Klinikkapelle
DESCRIPTION:https://www2.bistum-augsburg.de/gottesdienste/heilige-messe-in-
 der-klinikkapelle_id1731177
DTSTART;TZID=Europe/Berlin:20260531T090000
DURATION:PT30M
LOCATION:St. Martin
END:VEVENT
END:VCALENDAR
