BEGIN:VCALENDAR
VERSION:2.0
PRODID:-//Sabre//Sabre VObject 4.5.8//EN
CALSCALE:GREGORIAN
BEGIN:VEVENT
UID:sabre-vobject-222e06a0-9ea8-421d-a91c-c3699860cd21
DTSTAMP:20260424T235911Z
SUMMARY:2. Firmvesper mit dem Kolpingschor
DESCRIPTION:https://www2.bistum-augsburg.de/gottesdienste/2-firmvesper-mit-
 dem-kolpingschor_id1731180
DTSTART;TZID=Europe/Berlin:20260506T190000
DURATION:PT30M
LOCATION:St. Georg und Mauritius
END:VEVENT
END:VCALENDAR
