BEGIN:VCALENDAR
VERSION:2.0
PRODID:-//Sabre//Sabre VObject 4.5.8//EN
CALSCALE:GREGORIAN
BEGIN:VEVENT
UID:sabre-vobject-98388448-96fd-4aa8-abf4-e223e2dbf45f
DTSTAMP:20260424T103806Z
SUMMARY:Hl. Amt \n z. Ehren d. hl. Florian
DESCRIPTION:https://www2.bistum-augsburg.de/gottesdienste/hl-amt-z-ehren-d-
 hl-florian_id1731185
DTSTART;TZID=Europe/Berlin:20260503T103000
DURATION:PT30M
LOCATION:Heilig Kreuz
END:VEVENT
END:VCALENDAR
