BEGIN:VCALENDAR
VERSION:2.0
PRODID:-//Sabre//Sabre VObject 4.5.8//EN
CALSCALE:GREGORIAN
BEGIN:VEVENT
UID:sabre-vobject-65cb65d1-a399-436a-87f5-bb2301a0f539
DTSTAMP:20260424T121706Z
SUMMARY:Dankgottesdienst der Erstkommunionkinder
DESCRIPTION:https://www2.bistum-augsburg.de/gottesdienste/dankgottesdienst-
 der-erstkommunionkinder_id1731188
DTSTART;TZID=Europe/Berlin:20260429T190000
DURATION:PT30M
LOCATION:St. Georg
END:VEVENT
END:VCALENDAR
